BEGIN:VCALENDAR
VERSION:2.0
PRODID:-//Burbage Band - ECPv6.15.18//NONSGML v1.0//EN
CALSCALE:GREGORIAN
METHOD:PUBLISH
X-WR-CALNAME:Burbage Band
X-ORIGINAL-URL:https://www.burbageband.co.uk
X-WR-CALDESC:Events for Burbage Band
REFRESH-INTERVAL;VALUE=DURATION:PT1H
X-Robots-Tag:noindex
X-PUBLISHED-TTL:PT1H
BEGIN:VTIMEZONE
TZID:Europe/London
BEGIN:DAYLIGHT
TZOFFSETFROM:+0000
TZOFFSETTO:+0100
TZNAME:BST
DTSTART:20220327T010000
END:DAYLIGHT
BEGIN:STANDARD
TZOFFSETFROM:+0100
TZOFFSETTO:+0000
TZNAME:GMT
DTSTART:20221030T010000
END:STANDARD
BEGIN:DAYLIGHT
TZOFFSETFROM:+0000
TZOFFSETTO:+0100
TZNAME:BST
DTSTART:20230326T010000
END:DAYLIGHT
BEGIN:STANDARD
TZOFFSETFROM:+0100
TZOFFSETTO:+0000
TZNAME:GMT
DTSTART:20231029T010000
END:STANDARD
BEGIN:DAYLIGHT
TZOFFSETFROM:+0000
TZOFFSETTO:+0100
TZNAME:BST
DTSTART:20240331T010000
END:DAYLIGHT
BEGIN:STANDARD
TZOFFSETFROM:+0100
TZOFFSETTO:+0000
TZNAME:GMT
DTSTART:20241027T010000
END:STANDARD
BEGIN:DAYLIGHT
TZOFFSETFROM:+0000
TZOFFSETTO:+0100
TZNAME:BST
DTSTART:20250330T010000
END:DAYLIGHT
BEGIN:STANDARD
TZOFFSETFROM:+0100
TZOFFSETTO:+0000
TZNAME:GMT
DTSTART:20251026T010000
END:STANDARD
END:VTIMEZONE
BEGIN:VEVENT
DTSTART;TZID=Europe/London:20240914T190000
DTEND;TZID=Europe/London:20240914T213000
DTSTAMP:20260425T130638
CREATED:20231106T162547Z
LAST-MODIFIED:20240219T090259Z
UID:153-1726340400-1726349400@www.burbageband.co.uk
SUMMARY:Burbage Works
DESCRIPTION:
URL:https://www.burbageband.co.uk/event/burbage-works/
LOCATION:The Stoller Hall\, Hunts Bank\, Manchester\, Greater Manchester\, M3 1DA\, United Kingdom
END:VEVENT
BEGIN:VEVENT
DTSTART;TZID=Europe/London:20240720T193000
DTEND;TZID=Europe/London:20240720T214500
DTSTAMP:20260425T130638
CREATED:20231106T162344Z
LAST-MODIFIED:20240423T154501Z
UID:149-1721503800-1721511900@www.burbageband.co.uk
SUMMARY:Fringe Festival: Burbage Works
DESCRIPTION:
URL:https://www.burbageband.co.uk/event/fringe-festival-burbage-works/
LOCATION:Buxton Methodist Church\, Chapel Street\, Buxton\, Derbyshire\, SK17 6HX\, United Kingdom
END:VEVENT
BEGIN:VEVENT
DTSTART;TZID=Europe/London:20240526T190000
DTEND;TZID=Europe/London:20240526T200000
DTSTAMP:20260425T130638
CREATED:20230912T103141Z
LAST-MODIFIED:20240526T151948Z
UID:130-1716750000-1716753600@www.burbageband.co.uk
SUMMARY:Endon Well Dressing - Cancelled
DESCRIPTION:Event cancelled due to weather conditions.
URL:https://www.burbageband.co.uk/event/endon-well-dressing/
LOCATION:Endon Village Well\, 2 Gratton Ln\, Endon\, ST9 9AA
END:VEVENT
BEGIN:VEVENT
DTSTART;TZID=Europe/London:20240518T180000
DTEND;TZID=Europe/London:20240518T200000
DTSTAMP:20260425T130638
CREATED:20231106T162209Z
LAST-MODIFIED:20231106T162209Z
UID:146-1716055200-1716062400@www.burbageband.co.uk
SUMMARY:Burbage Works: Drive and Dance
DESCRIPTION:
URL:https://www.burbageband.co.uk/event/burbage-works-drive-and-dance/
LOCATION:Burbage Institute\, Nursery Lane\, Buxton\, Derbyshire\, SK17 6UL\, United Kingdom
END:VEVENT
BEGIN:VEVENT
DTSTART;TZID=Europe/London:20231021T190000
DTEND;TZID=Europe/London:20231021T210000
DTSTAMP:20260425T130638
CREATED:20230831T144434Z
LAST-MODIFIED:20240325T122126Z
UID:92-1697914800-1697922000@www.burbageband.co.uk
SUMMARY:Burbage Band Autumn Concert
DESCRIPTION:
URL:https://www.burbageband.co.uk/event/burbage-band-autumn-concert-2023/
LOCATION:St John's Church Buxton\, 6 St Johns Road\, Buxton\, SK17 6XN\, United Kingdom
END:VEVENT
BEGIN:VEVENT
DTSTART;TZID=Europe/London:20230930T190000
DTEND;TZID=Europe/London:20230930T210000
DTSTAMP:20260425T130638
CREATED:20230831T144345Z
LAST-MODIFIED:20230831T144345Z
UID:89-1696100400-1696107600@www.burbageband.co.uk
SUMMARY:Ipstones Concert
DESCRIPTION:
URL:https://www.burbageband.co.uk/event/ipstones-concert/
LOCATION:Ipstones Memorial Hall\, Church Lane\, Ipstones\, Stoke-on-Trent\, ST10 2LD\, United Kingdom
END:VEVENT
BEGIN:VEVENT
DTSTART;TZID=Europe/London:20230917T140000
DTEND;TZID=Europe/London:20230917T160000
DTSTAMP:20260425T130638
CREATED:20230831T144203Z
LAST-MODIFIED:20230831T144203Z
UID:86-1694959200-1694966400@www.burbageband.co.uk
SUMMARY:Glossop Old Band Club
DESCRIPTION:
URL:https://www.burbageband.co.uk/event/glossop-old-band-club/
LOCATION:Glossop Old Band Club\, Derby Street\, Glossop\, SK13 8LP\, United Kingdom
END:VEVENT
BEGIN:VEVENT
DTSTART;TZID=Europe/London:20230910T140000
DTEND;TZID=Europe/London:20230910T160000
DTSTAMP:20260425T130638
CREATED:20230831T143936Z
LAST-MODIFIED:20230831T150427Z
UID:83-1694354400-1694361600@www.burbageband.co.uk
SUMMARY:Buxton Bandstand
DESCRIPTION:We're back at the beautiful Buxton Bandstand. Join us in the Pavilion Gardens for an afternoon of great tunes.
URL:https://www.burbageband.co.uk/event/buxton-bandstand/
LOCATION:Buxton Bandstand\, The Pavilion Gardens\, St John's Road\, Buxton\, Derbyshire\, SK17 6BE\, United Kingdom
END:VEVENT
END:VCALENDAR