BEGIN:VCALENDAR
VERSION:2.0
PRODID:-//Burbage Band - ECPv6.15.18//NONSGML v1.0//EN
CALSCALE:GREGORIAN
METHOD:PUBLISH
X-WR-CALNAME:Burbage Band
X-ORIGINAL-URL:https://www.burbageband.co.uk
X-WR-CALDESC:Events for Burbage Band
REFRESH-INTERVAL;VALUE=DURATION:PT1H
X-Robots-Tag:noindex
X-PUBLISHED-TTL:PT1H
BEGIN:VTIMEZONE
TZID:Europe/London
BEGIN:DAYLIGHT
TZOFFSETFROM:+0000
TZOFFSETTO:+0100
TZNAME:BST
DTSTART:20250330T010000
END:DAYLIGHT
BEGIN:STANDARD
TZOFFSETFROM:+0100
TZOFFSETTO:+0000
TZNAME:GMT
DTSTART:20251026T010000
END:STANDARD
BEGIN:DAYLIGHT
TZOFFSETFROM:+0000
TZOFFSETTO:+0100
TZNAME:BST
DTSTART:20260329T010000
END:DAYLIGHT
BEGIN:STANDARD
TZOFFSETFROM:+0100
TZOFFSETTO:+0000
TZNAME:GMT
DTSTART:20261025T010000
END:STANDARD
BEGIN:DAYLIGHT
TZOFFSETFROM:+0000
TZOFFSETTO:+0100
TZNAME:BST
DTSTART:20270328T010000
END:DAYLIGHT
BEGIN:STANDARD
TZOFFSETFROM:+0100
TZOFFSETTO:+0000
TZNAME:GMT
DTSTART:20271031T010000
END:STANDARD
END:VTIMEZONE
BEGIN:VEVENT
DTSTART;TZID=Europe/London:20260425T190000
DTEND;TZID=Europe/London:20260425T213000
DTSTAMP:20260424T172419
CREATED:20231106T162107Z
LAST-MODIFIED:20260312T220142Z
UID:144-1777143600-1777152600@www.burbageband.co.uk
SUMMARY:Burbage Band Spring Concert
DESCRIPTION:
URL:https://www.burbageband.co.uk/event/burbage-band-spring-concert/
LOCATION:St John's Church Buxton\, 6 St Johns Road\, Buxton\, SK17 6XN\, United Kingdom
END:VEVENT
BEGIN:VEVENT
DTSTART;TZID=Europe/London:20260530T103000
DTEND;TZID=Europe/London:20260530T140000
DTSTAMP:20260424T172419
CREATED:20260122T100427Z
LAST-MODIFIED:20260122T100427Z
UID:6927-1780137000-1780149600@www.burbageband.co.uk
SUMMARY:Glossop Heritage Weekend
DESCRIPTION:
URL:https://www.burbageband.co.uk/event/glossop-heritage-weekend/
LOCATION:Norfolk Square\, Norfolk Square\, Glossop\, United Kingdom
END:VEVENT
BEGIN:VEVENT
DTSTART;TZID=Europe/London:20260531T140000
DTEND;TZID=Europe/London:20260531T160000
DTSTAMP:20260424T172419
CREATED:20240219T090435Z
LAST-MODIFIED:20260122T100314Z
UID:6568-1780236000-1780243200@www.burbageband.co.uk
SUMMARY:Buxton Bandstand
DESCRIPTION:
URL:https://www.burbageband.co.uk/event/buxton-bandstand-3/
LOCATION:Buxton Bandstand\, The Pavilion Gardens\, St John's Road\, Buxton\, Derbyshire\, SK17 6BE\, United Kingdom
END:VEVENT
BEGIN:VEVENT
DTSTART;TZID=Europe/London:20260627T180000
DTEND;TZID=Europe/London:20260627T200000
DTSTAMP:20260424T172419
CREATED:20230912T103317Z
LAST-MODIFIED:20260122T100247Z
UID:133-1782583200-1782590400@www.burbageband.co.uk
SUMMARY:Parwich Wakes
DESCRIPTION:
URL:https://www.burbageband.co.uk/event/parwich-wakes/
LOCATION:Church View\, Church View\, Parwich
END:VEVENT
BEGIN:VEVENT
DTSTART;TZID=Europe/London:20260711T140000
DTEND;TZID=Europe/London:20260711T170000
DTSTAMP:20260424T172419
CREATED:20230918T102757Z
LAST-MODIFIED:20260122T100155Z
UID:138-1783778400-1783789200@www.burbageband.co.uk
SUMMARY:Buxton Carnival
DESCRIPTION:
URL:https://www.burbageband.co.uk/event/buxton-carnival/
LOCATION:Buxton Train Station\, Buxton Train station\, Buxton
END:VEVENT
BEGIN:VEVENT
DTSTART;TZID=Europe/London:20260715T190000
DTEND;TZID=Europe/London:20260715T200000
DTSTAMP:20260424T172419
CREATED:20250630T115838Z
LAST-MODIFIED:20260324T114141Z
UID:6897-1784142000-1784145600@www.burbageband.co.uk
SUMMARY:Peak Forest Well Blessing
DESCRIPTION:
URL:https://www.burbageband.co.uk/event/peak-forest-well-blessing/
LOCATION:Peak Forest\, Peak Forest\, Buxton\, SK178EF\, United Kingdom
END:VEVENT
BEGIN:VEVENT
DTSTART;TZID=Europe/London:20260718T190000
DTEND;TZID=Europe/London:20260718T213000
DTSTAMP:20260424T172419
CREATED:20260122T100123Z
LAST-MODIFIED:20260228T133231Z
UID:6922-1784401200-1784410200@www.burbageband.co.uk
SUMMARY:Buxton Fringe Concert: Brass Masters
DESCRIPTION:
URL:https://www.burbageband.co.uk/event/buxton-fringe-concert/
LOCATION:Buxton Methodist Church\, Chapel Street\, Buxton\, Derbyshire\, SK17 6HX\, United Kingdom
END:VEVENT
BEGIN:VEVENT
DTSTART;TZID=Europe/London:20260906T140000
DTEND;TZID=Europe/London:20260906T160000
DTSTAMP:20260424T172419
CREATED:20231106T162429Z
LAST-MODIFIED:20260122T100000Z
UID:151-1788703200-1788710400@www.burbageband.co.uk
SUMMARY:Buxton Bandstand
DESCRIPTION:
URL:https://www.burbageband.co.uk/event/buxton-bandstand-2/
LOCATION:Buxton Bandstand\, The Pavilion Gardens\, St John's Road\, Buxton\, Derbyshire\, SK17 6BE\, United Kingdom
END:VEVENT
BEGIN:VEVENT
DTSTART;TZID=Europe/London:20260926T190000
DTEND;TZID=Europe/London:20260926T210000
DTSTAMP:20260424T172419
CREATED:20231106T162628Z
LAST-MODIFIED:20260122T095931Z
UID:156-1790449200-1790456400@www.burbageband.co.uk
SUMMARY:Ipstones Proms Concert
DESCRIPTION:
URL:https://www.burbageband.co.uk/event/ipstones-proms-concert/
LOCATION:Ipstones Memorial Hall\, Church Lane\, Ipstones\, Stoke-on-Trent\, ST10 2LD\, United Kingdom
END:VEVENT
BEGIN:VEVENT
DTSTART;TZID=Europe/London:20261017T190000
DTEND;TZID=Europe/London:20261017T213000
DTSTAMP:20260424T172419
CREATED:20240325T122055Z
LAST-MODIFIED:20260122T095905Z
UID:6576-1792263600-1792272600@www.burbageband.co.uk
SUMMARY:Burbage Band Autumn Concert
DESCRIPTION:
URL:https://www.burbageband.co.uk/event/burbage-band-autumn-concert-2025/
LOCATION:St John's Church Buxton\, 6 St Johns Road\, Buxton\, SK17 6XN\, United Kingdom
END:VEVENT
BEGIN:VEVENT
DTSTART;TZID=Europe/London:20261213T190000
DTEND;TZID=Europe/London:20261213T210000
DTSTAMP:20260424T172419
CREATED:20230831T144513Z
LAST-MODIFIED:20260324T114203Z
UID:95-1797188400-1797195600@www.burbageband.co.uk
SUMMARY:Christmas Concert with Chapel Male Voice Choir
DESCRIPTION:
URL:https://www.burbageband.co.uk/event/chapel-male-voice-choir/
LOCATION:Palace Hotel\, Palace Road\, Buxton\, SK17 6AG\, United Kingdom
END:VEVENT
BEGIN:VEVENT
DTSTART;TZID=Europe/London:20261219T190000
DTEND;TZID=Europe/London:20261219T213000
DTSTAMP:20260424T172419
CREATED:20230831T144639Z
LAST-MODIFIED:20260122T095808Z
UID:101-1797706800-1797715800@www.burbageband.co.uk
SUMMARY:Burbage Band Christmas Concert
DESCRIPTION:
URL:https://www.burbageband.co.uk/event/burbage-band-christmas-concert/
LOCATION:St John's Church Buxton\, 6 St Johns Road\, Buxton\, SK17 6XN\, United Kingdom
END:VEVENT
BEGIN:VEVENT
DTSTART;TZID=Europe/London:20261228T103000
DTEND;TZID=Europe/London:20261228T123000
DTSTAMP:20260424T172419
CREATED:20240325T122336Z
LAST-MODIFIED:20260324T114247Z
UID:6580-1798453800-1798461000@www.burbageband.co.uk
SUMMARY:Boxing Day Concert
DESCRIPTION:
URL:https://www.burbageband.co.uk/event/boxing-day-concert/
LOCATION:Buxton Opera House\, Water Street\, Buxton\, Derbyshire\, SK17 6XN\, United Kingdom
END:VEVENT
END:VCALENDAR