BEGIN:VCALENDAR
VERSION:2.0
PRODID:-//Burbage Band - ECPv6.15.18//NONSGML v1.0//EN
CALSCALE:GREGORIAN
METHOD:PUBLISH
X-ORIGINAL-URL:https://www.burbageband.co.uk
X-WR-CALDESC:Events for Burbage Band
REFRESH-INTERVAL;VALUE=DURATION:PT1H
X-Robots-Tag:noindex
X-PUBLISHED-TTL:PT1H
BEGIN:VTIMEZONE
TZID:Europe/London
BEGIN:DAYLIGHT
TZOFFSETFROM:+0000
TZOFFSETTO:+0100
TZNAME:BST
DTSTART:20250330T010000
END:DAYLIGHT
BEGIN:STANDARD
TZOFFSETFROM:+0100
TZOFFSETTO:+0000
TZNAME:GMT
DTSTART:20251026T010000
END:STANDARD
BEGIN:DAYLIGHT
TZOFFSETFROM:+0000
TZOFFSETTO:+0100
TZNAME:BST
DTSTART:20260329T010000
END:DAYLIGHT
BEGIN:STANDARD
TZOFFSETFROM:+0100
TZOFFSETTO:+0000
TZNAME:GMT
DTSTART:20261025T010000
END:STANDARD
BEGIN:DAYLIGHT
TZOFFSETFROM:+0000
TZOFFSETTO:+0100
TZNAME:BST
DTSTART:20270328T010000
END:DAYLIGHT
BEGIN:STANDARD
TZOFFSETFROM:+0100
TZOFFSETTO:+0000
TZNAME:GMT
DTSTART:20271031T010000
END:STANDARD
END:VTIMEZONE
BEGIN:VEVENT
DTSTART;TZID=Europe/London:20261219T190000
DTEND;TZID=Europe/London:20261219T213000
DTSTAMP:20260424T171845
CREATED:20230831T144639Z
LAST-MODIFIED:20260122T095808Z
UID:101-1797706800-1797715800@www.burbageband.co.uk
SUMMARY:Burbage Band Christmas Concert
DESCRIPTION:
URL:https://www.burbageband.co.uk/event/burbage-band-christmas-concert/
LOCATION:St John's Church Buxton\, 6 St Johns Road\, Buxton\, SK17 6XN\, United Kingdom
END:VEVENT
BEGIN:VEVENT
DTSTART;TZID=Europe/London:20261228T103000
DTEND;TZID=Europe/London:20261228T123000
DTSTAMP:20260424T171845
CREATED:20240325T122336Z
LAST-MODIFIED:20260324T114247Z
UID:6580-1798453800-1798461000@www.burbageband.co.uk
SUMMARY:Boxing Day Concert
DESCRIPTION:
URL:https://www.burbageband.co.uk/event/boxing-day-concert/
LOCATION:Buxton Opera House\, Water Street\, Buxton\, Derbyshire\, SK17 6XN\, United Kingdom
END:VEVENT
END:VCALENDAR